BEGIN:VCALENDAR
VERSION:2.0
PRODID:-//ChamberMaster//Event Calendar 2.0//EN
METHOD:PUBLISH
X-PUBLISHED-TTL:P3D
REFRESH-INTERVAL:P3D
CALSCALE:GREGORIAN
BEGIN:VEVENT
DTSTART:20231021T130000Z
DTEND:20231021T200000Z
X-MICROSOFT-CDO-ALLDAYEVENT:FALSE
SUMMARY:Ladies Rooster Roundup
DESCRIPTION:Ladies Rooster Roundup
X-ALT-DESC;FMTTYPE=text/html:Ladies Rooster Roundup
LOCATION:Chuck and Cheri Haus Property in Rural Hankinson
UID:e.417.4709
SEQUENCE:3
DTSTAMP:20260419T145742Z
URL:https://business.wahpetonbreckenridgechamber.com/events/details/ladies-rooster-roundup-4709
END:VEVENT

END:VCALENDAR
