BEGIN:VCALENDAR
VERSION:2.0
PRODID:-//ChamberMaster//Event Calendar 2.0//EN
METHOD:PUBLISH
X-PUBLISHED-TTL:P3D
REFRESH-INTERVAL:P3D
CALSCALE:GREGORIAN
BEGIN:VEVENT
DTSTART:20251008T230000Z
DTEND:20251009T010000Z
X-MICROSOFT-CDO-ALLDAYEVENT:FALSE
SUMMARY:Kitchens of Hope @ Breck Public Library
DESCRIPTION:Kitchens of Hope with Author Lee Svitak Dean\n\n\n\nJoin your library to hear from author Lee Svitak Dean about her popular cookbook The Ultimate Minnesota Cookie Book\, and her latest book celebrating the recipes and stories of immigrants from more than thirty countries\, Kitchens of Hope.
X-ALT-DESC;FMTTYPE=text/html:Kitchens of Hope with Author Lee Svitak Dean<br />\n<br />\nJoin your library to hear from author Lee Svitak Dean about her popular cookbook The Ultimate Minnesota Cookie Book\, and her latest book celebrating the recipes and stories of immigrants from more than thirty countries\, Kitchens of Hope.&nbsp\;
LOCATION:Breckenridge Public Library
UID:e.417.6383
SEQUENCE:3
DTSTAMP:20260421T171932Z
URL:https://business.wahpetonbreckenridgechamber.com/events/details/kitchens-of-hope-breck-public-library-6383
END:VEVENT

END:VCALENDAR
