BEGIN:VCALENDAR
VERSION:2.0
PRODID:-//ChamberMaster//Event Calendar 2.0//EN
METHOD:PUBLISH
X-PUBLISHED-TTL:P3D
REFRESH-INTERVAL:P3D
CALSCALE:GREGORIAN
BEGIN:VEVENT
DTSTART:20260502T150000Z
DTEND:20260502T220000Z
X-MICROSOFT-CDO-ALLDAYEVENT:FALSE
SUMMARY:Kids Floral Workshop
DESCRIPTION:Kids Floral Workshop @ Buds\, Blooms & Blessings\n\nCreate an arrangement for Mother's Day!
X-ALT-DESC;FMTTYPE=text/html:<p>Kids Floral Workshop @ Buds\, Blooms &amp\; Blessings</p>\n\n<p>Create an arrangement for Mother&#39\;s Day!</p>\n
LOCATION:Buds\, Blooms & Blessings 519 Dakota Ave Wahpeton\, ND
UID:e.417.7103
SEQUENCE:3
DTSTAMP:20260421T130333Z
URL:https://business.wahpetonbreckenridgechamber.com/events/details/kids-floral-workshop-7103
END:VEVENT

END:VCALENDAR
