BEGIN:VCALENDAR
VERSION:2.0
PRODID:-//ChamberMaster//Event Calendar 2.0//EN
METHOD:PUBLISH
X-PUBLISHED-TTL:P3D
REFRESH-INTERVAL:P3D
CALSCALE:GREGORIAN
BEGIN:VEVENT
DTSTART:20231028T150000Z
DTEND:20231028T170000Z
X-MICROSOFT-CDO-ALLDAYEVENT:FALSE
SUMMARY:Kids Cooking Class for Little Chefs
DESCRIPTION:Chahinkapa Zoo is sponsoring kids cooking classes for children ages 6-11. Enjoy making Halloween treats in the freaky cooking classes! Join the fun in making these tasty treats and scaring the grown-ups with finger food.
X-ALT-DESC;FMTTYPE=text/html:Chahinkapa Zoo is sponsoring kids cooking classes for children ages 6-11. Enjoy making Halloween treats in the freaky cooking classes! Join the fun in making these tasty treats and scaring the grown-ups with finger food.
LOCATION:Chahinkapa Park - Optimist Shelter
UID:e.417.4659
SEQUENCE:3
DTSTAMP:20260419T145731Z
URL:https://business.wahpetonbreckenridgechamber.com/events/details/kids-cooking-class-for-little-chefs-4659
END:VEVENT

END:VCALENDAR
