BEGIN:VCALENDAR
VERSION:2.0
PRODID:-//ChamberMaster//Event Calendar 2.0//EN
METHOD:PUBLISH
X-PUBLISHED-TTL:P3D
REFRESH-INTERVAL:P3D
CALSCALE:GREGORIAN
BEGIN:VEVENT
DTSTART:20230706T140000Z
DTEND:20230706T150000Z
X-MICROSOFT-CDO-ALLDAYEVENT:FALSE
SUMMARY:Kids Chalk Class
DESCRIPTION:Kids Chalk Class
X-ALT-DESC;FMTTYPE=text/html:Kids Chalk Class
LOCATION:Heritage Square Center 500 Dakota Ave\, Wahpeton ND
UID:e.417.4661
SEQUENCE:3
DTSTAMP:20260421T102814Z
URL:https://business.wahpetonbreckenridgechamber.com/events/details/kids-chalk-class-4661
END:VEVENT

END:VCALENDAR
