BEGIN:VCALENDAR
VERSION:2.0
PRODID:-//ChamberMaster//Event Calendar 2.0//EN
METHOD:PUBLISH
X-PUBLISHED-TTL:P3D
REFRESH-INTERVAL:P3D
CALSCALE:GREGORIAN
BEGIN:VEVENT
DTSTART;VALUE=DATE:20230724
DTEND;VALUE=DATE:20230727
TRANSP:TRANSPARENT
X-MICROSOFT-CDO-ALLDAYEVENT:TRUE
SUMMARY:Kiddy Cat Basketball Camp
DESCRIPTION:Kiddy Cat  Basketball Camp
X-ALT-DESC;FMTTYPE=text/html:Kiddy Cat&nbsp\; Basketball Camp&nbsp\;&nbsp\;&nbsp\;&nbsp\;&nbsp\;&nbsp\;&nbsp\;&nbsp\;
LOCATION:Ndscs
UID:e.417.4696
SEQUENCE:3
DTSTAMP:20260421T102941Z
URL:https://business.wahpetonbreckenridgechamber.com/events/details/kiddy-cat-basketball-camp-4696
END:VEVENT

END:VCALENDAR
