BEGIN:VCALENDAR
VERSION:2.0
PRODID:-//ChamberMaster//Event Calendar 2.0//EN
METHOD:PUBLISH
X-PUBLISHED-TTL:P3D
REFRESH-INTERVAL:P3D
CALSCALE:GREGORIAN
BEGIN:VEVENT
DTSTART:20251115T140000Z
DTEND:20251115T200000Z
X-MICROSOFT-CDO-ALLDAYEVENT:FALSE
SUMMARY:Holiday Show
DESCRIPTION:33rd Annual Homespun Holiday Show\n\nSaturday November 15th | 8 am - 2 pm\n\nBreckenridge Senior Center\n\nFeaturing: Christmas and Home Decor\, Furniture\, Handmade Creations\, Antiques\, Baked goods and more!
X-ALT-DESC;FMTTYPE=text/html:33rd Annual Homespun Holiday Show<br />\nSaturday November 15th | 8 am - 2 pm<br />\nBreckenridge Senior Center<br />\nFeaturing: Christmas and Home Decor\, Furniture\, Handmade Creations\, Antiques\, Baked goods and more!&nbsp\;
LOCATION:Breckenridge Senior Center
UID:e.417.6467
SEQUENCE:3
DTSTAMP:20260421T154817Z
URL:https://business.wahpetonbreckenridgechamber.com/events/details/holiday-show-6467
END:VEVENT

END:VCALENDAR
