BEGIN:VCALENDAR
VERSION:2.0
PRODID:-//ChamberMaster//Event Calendar 2.0//EN
METHOD:PUBLISH
X-PUBLISHED-TTL:P3D
REFRESH-INTERVAL:P3D
CALSCALE:GREGORIAN
BEGIN:VEVENT
DTSTART:20251025T150000Z
DTEND:20251025T193000Z
X-MICROSOFT-CDO-ALLDAYEVENT:FALSE
SUMMARY:Holiday Shop at Home
DESCRIPTION:18th Annual Holiday Shop at Home Craft Show and Silent Auction\n\n100% of Silent auction proceeds and vendor registration fees benefit Richland-Wilkin Kinship and youth mentoring in our community. Visit rwkinship.org for more info.\n\nCraft vendors - silent auction - soup luncheon
X-ALT-DESC;FMTTYPE=text/html:18th Annual Holiday Shop at Home Craft Show and Silent Auction<br />\n100% of Silent auction proceeds and vendor registration fees benefit Richland-Wilkin Kinship and youth mentoring in our community. Visit rwkinship.org for more info.<br />\nCraft vendors - silent auction - soup luncheon
LOCATION:Wahpeton Community Center 304 5th street south
UID:e.417.6364
SEQUENCE:3
DTSTAMP:20260421T171846Z
URL:https://business.wahpetonbreckenridgechamber.com/events/details/holiday-shop-at-home-6364
END:VEVENT

END:VCALENDAR
