BEGIN:VCALENDAR
VERSION:2.0
PRODID:-//ChamberMaster//Event Calendar 2.0//EN
METHOD:PUBLISH
X-PUBLISHED-TTL:P3D
REFRESH-INTERVAL:P3D
CALSCALE:GREGORIAN
BEGIN:VEVENT
DTSTART:20251214T000000Z
DTEND:20251214T010000Z
X-MICROSOFT-CDO-ALLDAYEVENT:FALSE
SUMMARY:Holiday Lights Parade
DESCRIPTION:Holiday Lights Parade
X-ALT-DESC;FMTTYPE=text/html:Holiday Lights Parade
LOCATION:Chahinkapa Park
UID:e.417.6470
SEQUENCE:3
DTSTAMP:20260421T143817Z
URL:https://business.wahpetonbreckenridgechamber.com/events/details/holiday-lights-parade-6470
END:VEVENT

END:VCALENDAR
