BEGIN:VCALENDAR
VERSION:2.0
PRODID:-//ChamberMaster//Event Calendar 2.0//EN
METHOD:PUBLISH
X-PUBLISHED-TTL:P3D
REFRESH-INTERVAL:P3D
CALSCALE:GREGORIAN
BEGIN:VEVENT
DTSTART;VALUE=DATE:20230720
DTEND;VALUE=DATE:20230724
TRANSP:TRANSPARENT
X-MICROSOFT-CDO-ALLDAYEVENT:TRUE
SUMMARY:Headwaters Music Festival
DESCRIPTION:Headwater Music Festival
X-ALT-DESC;FMTTYPE=text/html:Headwater Music Festival
LOCATION:Chahinkapa Park - Hughes Shelter New Band Shelter Downtown Wahpeton Welles Park
UID:e.417.4612
SEQUENCE:3
DTSTAMP:20260421T103058Z
URL:https://business.wahpetonbreckenridgechamber.com/events/details/headwaters-music-festival-4612
END:VEVENT

END:VCALENDAR
