BEGIN:VCALENDAR
VERSION:2.0
PRODID:-//ChamberMaster//Event Calendar 2.0//EN
METHOD:PUBLISH
X-PUBLISHED-TTL:P3D
REFRESH-INTERVAL:P3D
CALSCALE:GREGORIAN
BEGIN:VEVENT
DTSTART:20231028T150000Z
DTEND:20231028T173000Z
X-MICROSOFT-CDO-ALLDAYEVENT:FALSE
SUMMARY:Haunted Library
DESCRIPTION:Haunted Library\n\nFamilies are invited to our annual Haunted Library! Make not-so-spooky crafts\, play with slime\, enjoy a family-friendly Halloween movie\, and trick or treat for (non-candy) treats. Geared to 2-10 year olds.
X-ALT-DESC;FMTTYPE=text/html:Haunted Library<br />\n<span style="color: rgb(228\, 230\, 235)\; font-family: &quot\;Segoe UI Historic&quot\;\, &quot\;Segoe UI&quot\;\, Helvetica\, Arial\, sans-serif\; font-size: 15px\; background-color: rgb(36\, 37\, 38)\;">Families are invited to our annual Haunted Library! Make not-so-spooky crafts\, play with slime\, enjoy a family-friendly Halloween movie\, and trick or treat for (non-candy) treats. Geared to 2-10 year olds.</span>
LOCATION:Leach Public Library
UID:e.417.5009
SEQUENCE:3
DTSTAMP:20260419T144829Z
URL:https://business.wahpetonbreckenridgechamber.com/events/details/haunted-library-5009
END:VEVENT

END:VCALENDAR
