BEGIN:VCALENDAR
VERSION:2.0
PRODID:-//ChamberMaster//Event Calendar 2.0//EN
METHOD:PUBLISH
X-PUBLISHED-TTL:P3D
REFRESH-INTERVAL:P3D
CALSCALE:GREGORIAN
BEGIN:VEVENT
DTSTART:20260117T230000Z
DTEND:20260118T020000Z
X-MICROSOFT-CDO-ALLDAYEVENT:FALSE
SUMMARY:Hankinson Fish Fry
DESCRIPTION:Hankinson Fish Fry 5-8 pm\n\nTake out starts 4 pm\, Adults $20 - Kids 7-12 $10 - & & Under Free\n\nCash Bar - Meat Raffles - Bingo - Gun Board
X-ALT-DESC;FMTTYPE=text/html:Hankinson Fish Fry 5-8 pm<br />\nTake out starts 4 pm\, Adults $20 - Kids 7-12 $10 - &amp\; &amp\; Under Free<br />\nCash Bar - Meat Raffles - Bingo - Gun Board
LOCATION:Hankinson Community Center
UID:e.417.6571
SEQUENCE:3
DTSTAMP:20260421T132831Z
URL:https://business.wahpetonbreckenridgechamber.com/events/details/hankinson-fish-fry-6571
END:VEVENT

END:VCALENDAR
