BEGIN:VCALENDAR
VERSION:2.0
PRODID:-//ChamberMaster//Event Calendar 2.0//EN
METHOD:PUBLISH
X-PUBLISHED-TTL:P3D
REFRESH-INTERVAL:P3D
CALSCALE:GREGORIAN
BEGIN:VEVENT
DTSTART:20231029T000000Z
DTEND:20231029T040000Z
X-MICROSOFT-CDO-ALLDAYEVENT:FALSE
SUMMARY:Halloween Party: City Brew Hall
DESCRIPTION:Halloween Party at City Boo Hall
X-ALT-DESC;FMTTYPE=text/html:Halloween Party at City Boo Hall
LOCATION:City Brew Hall
UID:e.417.4984
SEQUENCE:3
DTSTAMP:20260419T145931Z
URL:https://business.wahpetonbreckenridgechamber.com/events/details/halloween-party-city-brew-hall-4984
END:VEVENT

END:VCALENDAR
