BEGIN:VCALENDAR
VERSION:2.0
PRODID:-//ChamberMaster//Event Calendar 2.0//EN
METHOD:PUBLISH
X-PUBLISHED-TTL:P3D
REFRESH-INTERVAL:P3D
CALSCALE:GREGORIAN
BEGIN:VEVENT
DTSTART:20231009T233000Z
DTEND:20231010T010000Z
X-MICROSOFT-CDO-ALLDAYEVENT:FALSE
SUMMARY:Halloween Paint Party
DESCRIPTION:Kinship Paint Party with Gallery on the Go
X-ALT-DESC;FMTTYPE=text/html:Kinship Paint Party with Gallery on the Go
LOCATION:614 Dakota Ave - Park on east side.
UID:e.417.4979
SEQUENCE:3
DTSTAMP:20260419T161630Z
URL:https://business.wahpetonbreckenridgechamber.com/events/details/halloween-paint-party-4979
END:VEVENT

END:VCALENDAR
