BEGIN:VCALENDAR
VERSION:2.0
PRODID:-//ChamberMaster//Event Calendar 2.0//EN
METHOD:PUBLISH
X-PUBLISHED-TTL:P3D
REFRESH-INTERVAL:P3D
CALSCALE:GREGORIAN
BEGIN:VEVENT
DTSTART:20231028T160000Z
DTEND:20231028T200000Z
X-MICROSOFT-CDO-ALLDAYEVENT:FALSE
SUMMARY:Halloween Carnival Fundraiser
DESCRIPTION:Pack 352 Halloween Carnival Fundraiser 2023
X-ALT-DESC;FMTTYPE=text/html:Pack 352 Halloween Carnival Fundraiser 2023
LOCATION:Wahpeton Community Center
UID:e.417.5008
SEQUENCE:3
DTSTAMP:20260419T161154Z
URL:https://business.wahpetonbreckenridgechamber.com/events/details/halloween-carnival-fundraiser-5008
END:VEVENT

END:VCALENDAR
