BEGIN:VCALENDAR
VERSION:2.0
PRODID:-//ChamberMaster//Event Calendar 2.0//EN
METHOD:PUBLISH
X-PUBLISHED-TTL:P3D
REFRESH-INTERVAL:P3D
CALSCALE:GREGORIAN
BEGIN:VEVENT
DTSTART:20251011T160000Z
DTEND:20251011T200000Z
X-MICROSOFT-CDO-ALLDAYEVENT:FALSE
SUMMARY:Halloween Carnival
DESCRIPTION:Cub Scout Halloween Carnival\n\n\n\nGames | Prizes | Crafts | Concessions & Bake Sale\n\n\n\n$5 Per Person or $3 with a non-perishable food item
X-ALT-DESC;FMTTYPE=text/html:Cub Scout Halloween Carnival<br />\n<br />\nGames | Prizes | Crafts | Concessions &amp\; Bake Sale<br />\n<br />\n$5 Per Person or $3 with a non-perishable food item
LOCATION:Wahpeton Community Center
UID:e.417.6372
SEQUENCE:3
DTSTAMP:20260421T170854Z
URL:https://business.wahpetonbreckenridgechamber.com/events/details/halloween-carnival-6372
END:VEVENT

END:VCALENDAR
