BEGIN:VCALENDAR
VERSION:2.0
PRODID:-//ChamberMaster//Event Calendar 2.0//EN
METHOD:PUBLISH
X-PUBLISHED-TTL:P3D
REFRESH-INTERVAL:P3D
CALSCALE:GREGORIAN
BEGIN:VEVENT
DTSTART:20231031T210000Z
DTEND:20231101T000000Z
X-MICROSOFT-CDO-ALLDAYEVENT:FALSE
SUMMARY:Halloween Bash: Benedictine Living Community
DESCRIPTION:Halloween Bash
X-ALT-DESC;FMTTYPE=text/html:Halloween Bash
LOCATION:Benedictine Living Community Of Wahpeton
UID:e.417.5007
SEQUENCE:3
DTSTAMP:20260419T161629Z
URL:https://business.wahpetonbreckenridgechamber.com/events/details/halloween-bash-benedictine-living-community-5007
END:VEVENT

END:VCALENDAR
