BEGIN:VCALENDAR
VERSION:2.0
PRODID:-//ChamberMaster//Event Calendar 2.0//EN
METHOD:PUBLISH
X-PUBLISHED-TTL:P3D
REFRESH-INTERVAL:P3D
CALSCALE:GREGORIAN
BEGIN:VEVENT
DTSTART:20250903T210000Z
DTEND:20250904T000000Z
X-MICROSOFT-CDO-ALLDAYEVENT:FALSE
SUMMARY:Grand Opening - KrAz Dance
DESCRIPTION:Join us for the Grand Opening Celebration!\n\n\n\n$5 Meal Deal: Includes Hot dog\, chips\, and water.\n\n+Ice Cream stand!\n\n\n\nAll Proceeds go toward supporting the KrAz Dance Competition team.
X-ALT-DESC;FMTTYPE=text/html:Join us for the Grand Opening Celebration!<br />\n<br />\n$5 Meal Deal: Includes Hot dog\, chips\, and water.<br />\n+Ice Cream stand!<br />\n<br />\nAll Proceeds go toward supporting the KrAz Dance Competition team.
LOCATION:KrAz Dance
UID:e.417.6296
SEQUENCE:3
DTSTAMP:20260421T183828Z
URL:https://business.wahpetonbreckenridgechamber.com/events/details/grand-opening-kraz-dance-6296
END:VEVENT

END:VCALENDAR
