BEGIN:VCALENDAR
VERSION:2.0
PRODID:-//ChamberMaster//Event Calendar 2.0//EN
METHOD:PUBLISH
X-PUBLISHED-TTL:P3D
REFRESH-INTERVAL:P3D
CALSCALE:GREGORIAN
BEGIN:VEVENT
DTSTART:20260227T230000Z
DTEND:20260228T030000Z
X-MICROSOFT-CDO-ALLDAYEVENT:FALSE
SUMMARY:Glow & Go: Kids Night Out @ TRG
DESCRIPTION:GLow & Go: Parents Night out\n\n- Gym Games with competitive team gymnastics\n\n- Supervised Open Gym Time\n\n- Dinner and snacks Provided\n\n- Glow in the dark party with music & lights\n\n\n\n$30 per child - Potty Trained & Up
X-ALT-DESC;FMTTYPE=text/html:GLow &amp\; Go: Parents Night out<br />\n- Gym Games with competitive team gymnastics<br />\n- Supervised Open Gym Time<br />\n- Dinner and snacks Provided<br />\n- Glow in the dark party with music &amp\; lights<br />\n<br />\n$30 per child - Potty Trained &amp\; Up
LOCATION:Three Rivers Gymnastics
UID:e.417.7021
SEQUENCE:3
DTSTAMP:20260421T115408Z
URL:https://business.wahpetonbreckenridgechamber.com/events/details/glow-go-kids-night-out-trg-7021
END:VEVENT

END:VCALENDAR
