BEGIN:VCALENDAR
VERSION:2.0
PRODID:-//ChamberMaster//Event Calendar 2.0//EN
METHOD:PUBLISH
X-PUBLISHED-TTL:P3D
REFRESH-INTERVAL:P3D
CALSCALE:GREGORIAN
BEGIN:VEVENT
DTSTART:20251010T213000Z
DTEND:20251010T233000Z
X-MICROSOFT-CDO-ALLDAYEVENT:FALSE
SUMMARY:Giants & Huskies Chili Feed
DESCRIPTION:Giants & Huskies Chili Feed\n\n\n\nProceeds benefit the Wahpeton All-Sports Booster Club
X-ALT-DESC;FMTTYPE=text/html:Giants &amp\; Huskies Chili Feed<br />\n<br />\nProceeds benefit the Wahpeton All-Sports Booster Club
LOCATION:Earl "Skip" Bute Alumni Stadium Wahpeton\, ND
UID:e.417.6404
SEQUENCE:3
DTSTAMP:20260421T171006Z
URL:https://business.wahpetonbreckenridgechamber.com/events/details/giants-huskies-chili-feed-6404
END:VEVENT

END:VCALENDAR
