BEGIN:VCALENDAR
VERSION:2.0
PRODID:-//ChamberMaster//Event Calendar 2.0//EN
METHOD:PUBLISH
X-PUBLISHED-TTL:P3D
REFRESH-INTERVAL:P3D
CALSCALE:GREGORIAN
BEGIN:VEVENT
DTSTART:20231018T000000Z
DTEND:20231018T030000Z
X-MICROSOFT-CDO-ALLDAYEVENT:FALSE
SUMMARY:General Knowledge Trivia City Brew Haoll
DESCRIPTION:General Knowledge Trivia Night at City Brew Hall
X-ALT-DESC;FMTTYPE=text/html:General Knowledge Trivia Night at City Brew Hall
LOCATION:City Brew Hall
UID:e.417.5018
SEQUENCE:3
DTSTAMP:20260419T145709Z
URL:https://business.wahpetonbreckenridgechamber.com/events/details/general-knowledge-trivia-city-brew-haoll-5018
END:VEVENT

END:VCALENDAR
