BEGIN:VCALENDAR
VERSION:2.0
PRODID:-//ChamberMaster//Event Calendar 2.0//EN
METHOD:PUBLISH
X-PUBLISHED-TTL:P3D
REFRESH-INTERVAL:P3D
CALSCALE:GREGORIAN
BEGIN:VEVENT
DTSTART:20230201T010000Z
DTEND:20230201T030000Z
X-MICROSOFT-CDO-ALLDAYEVENT:FALSE
SUMMARY:General Knowledge Trivia
DESCRIPTION:Trivia season is back at City Brew Hall y'all! We're so excited to have Al Mann back for another season of trivia! Join us on January 31st for general trivia! You never quite know what questions Al has up his sleeve!\n\nSo grab your friends and join us\, questions start at 7. We can't wait to see you!
X-ALT-DESC;FMTTYPE=text/html:<div class="x11i5rnm xat24cr x1mh8g0r x1vvkbs xdj266r" style="margin: 0px\; overflow-wrap: break-word\; font-family: &quot\;Segoe UI Historic&quot\;\, &quot\;Segoe UI&quot\;\, Helvetica\, Arial\, sans-serif\; color: rgb(5\, 5\, 5)\; font-size: 15px\;">Trivia season is back at City Brew Hall&nbsp\;y&#39\;all! We&#39\;re so excited to have Al Mann back for another season of trivia! Join us on January 31st for general trivia! You never quite know what questions Al has up his sleeve!</div>\n\n<div class="x11i5rnm xat24cr x1mh8g0r x1vvkbs xtlvy1s" style="margin: 0.5em 0px 0px\; overflow-wrap: break-word\; font-family: &quot\;Segoe UI Historic&quot\;\, &quot\;Segoe UI&quot\;\, Helvetica\, Arial\, sans-serif\; color: rgb(5\, 5\, 5)\; font-size: 15px\;">So grab your friends and join us\, questions start at 7. We can&#39\;t wait to see you!</div>\n
LOCATION:
UID:e.417.4317
SEQUENCE:3
DTSTAMP:20260421T102635Z
URL:https://business.wahpetonbreckenridgechamber.com/events/details/general-knowledge-trivia-4317
END:VEVENT

END:VCALENDAR
