BEGIN:VCALENDAR
VERSION:2.0
PRODID:-//ChamberMaster//Event Calendar 2.0//EN
METHOD:PUBLISH
X-PUBLISHED-TTL:P3D
REFRESH-INTERVAL:P3D
CALSCALE:GREGORIAN
BEGIN:VEVENT
DTSTART:20230119T010000Z
DTEND:20230119T030000Z
X-MICROSOFT-CDO-ALLDAYEVENT:FALSE
SUMMARY:General Knowledge Trivia
DESCRIPTION:
X-ALT-DESC;FMTTYPE=text/html:
LOCATION:City Brew Hall
UID:e.417.2861
SEQUENCE:3
DTSTAMP:20260421T114656Z
URL:https://business.wahpetonbreckenridgechamber.com/events/details/general-knowledge-trivia-01-18-2023-2861
END:VEVENT

END:VCALENDAR
