BEGIN:VCALENDAR
VERSION:2.0
PRODID:-//ChamberMaster//Event Calendar 2.0//EN
METHOD:PUBLISH
X-PUBLISHED-TTL:P3D
REFRESH-INTERVAL:P3D
CALSCALE:GREGORIAN
BEGIN:VEVENT
DTSTART:20251010T190000Z
DTEND:20251010T210000Z
X-MICROSOFT-CDO-ALLDAYEVENT:FALSE
SUMMARY:Genealogy 101 @ Breck Public LIbrary
DESCRIPTION:Genealogy 101\n\nDiscover free research tools at your library with Genealogy expert Rick Crume\n\n\n\nLearn how to access:\n\nHistorical records\, family trees\, and more!
X-ALT-DESC;FMTTYPE=text/html:Genealogy 101<br />\nDiscover free research tools at your library with Genealogy expert Rick Crume<br />\n<br />\nLearn how to access:<br />\nHistorical records\, family trees\, and more!
LOCATION:Breckenridge Public LIbrary
UID:e.417.6382
SEQUENCE:3
DTSTAMP:20260421T171231Z
URL:https://business.wahpetonbreckenridgechamber.com/events/details/genealogy-101-breck-public-library-6382
END:VEVENT

END:VCALENDAR
