BEGIN:VCALENDAR
VERSION:2.0
PRODID:-//ChamberMaster//Event Calendar 2.0//EN
METHOD:PUBLISH
X-PUBLISHED-TTL:P3D
REFRESH-INTERVAL:P3D
CALSCALE:GREGORIAN
BEGIN:VEVENT
DTSTART:20240504T180000Z
DTEND:20240504T210000Z
X-MICROSOFT-CDO-ALLDAYEVENT:FALSE
SUMMARY:Gary Gabbert Annual Catch and Release Fishing Tourney
DESCRIPTION:Gabby Gabbert Annual Catch and Release Fishing Tourney\n\n$50 per team - 40 team limit\n\n75% paybacks to top 10 teams\n\n4 lines per boat\n\nlunch and beverages afterwards\n\nto sign up contact Greg 701-640-8389\n\nall NDGF rules apply
X-ALT-DESC;FMTTYPE=text/html:Gabby Gabbert Annual Catch and Release Fishing Tourney<br />\n$50 per team - 40 team limit<br />\n75% paybacks to top 10 teams<br />\n4 lines per boat<br />\nlunch and beverages afterwards<br />\nto sign up contact Greg 701-640-8389<br />\nall NDGF rules apply
LOCATION:Lake Elsie / Hankinson ND
UID:e.417.5450
SEQUENCE:3
DTSTAMP:20260425T163826Z
URL:https://business.wahpetonbreckenridgechamber.com/events/details/gary-gabbert-annual-catch-and-release-fishing-tourney-5450
END:VEVENT

END:VCALENDAR
