BEGIN:VCALENDAR
VERSION:2.0
PRODID:-//ChamberMaster//Event Calendar 2.0//EN
METHOD:PUBLISH
X-PUBLISHED-TTL:P3D
REFRESH-INTERVAL:P3D
CALSCALE:GREGORIAN
BEGIN:VEVENT
DTSTART:20231005T233000Z
DTEND:20231006T030000Z
X-MICROSOFT-CDO-ALLDAYEVENT:FALSE
SUMMARY:Gallery on the Go
DESCRIPTION:Gallery on the Go\n\nWho's ready to paint "FALL" now and be ready to display it in just a few short months? Join on Thursday\, October 5th at 6:30 pm for this adorable Fall cutie titled\, "Lakeside Cozy Coffee"!
X-ALT-DESC;FMTTYPE=text/html:Gallery on the Go<br />\n<span style="color: rgb(228\, 230\, 235)\; font-family: &quot\;Segoe UI Historic&quot\;\, &quot\;Segoe UI&quot\;\, Helvetica\, Arial\, sans-serif\; font-size: 15px\; background-color: rgb(36\, 37\, 38)\;">Who&#39\;s ready to paint &quot\;FALL&quot\; now and be ready to display it in just a few short months? Join on Thursday\, October 5th at 6:30 pm for this adorable Fall cutie titled\, &quot\;Lakeside Cozy Coffee&quot\;!</span>
LOCATION:City Brew Hall
UID:e.417.4974
SEQUENCE:3
DTSTAMP:20260419T161522Z
URL:https://business.wahpetonbreckenridgechamber.com/events/details/gallery-on-the-go-4974
END:VEVENT

END:VCALENDAR
