BEGIN:VCALENDAR
VERSION:2.0
PRODID:-//ChamberMaster//Event Calendar 2.0//EN
METHOD:PUBLISH
X-PUBLISHED-TTL:P3D
REFRESH-INTERVAL:P3D
CALSCALE:GREGORIAN
BEGIN:VEVENT
DTSTART:20260126T190000Z
DTEND:20260126T233000Z
X-MICROSOFT-CDO-ALLDAYEVENT:FALSE
SUMMARY:Frozen Movie Day @ BFCC
DESCRIPTION:Frozen Movie Day at The Breck Family Community Center\n\nFree: admission - goody bags - popcorn - coloring contest ages 1-15\n\n\n\nFilm starts at 2 pm\n\nPizza delivered by1:45 pm\n\nPizza: $2 a slice
X-ALT-DESC;FMTTYPE=text/html:Frozen Movie Day at The Breck Family Community Center<br />\nFree: admission - goody bags - popcorn - coloring contest ages 1-15<br />\n<br />\nFilm starts at 2 pm<br />\nPizza delivered by1:45 pm<br />\nPizza: $2 a slice
LOCATION:
UID:e.417.6572
SEQUENCE:3
DTSTAMP:20260421T131307Z
URL:https://business.wahpetonbreckenridgechamber.com/events/details/frozen-movie-day-bfcc-6572
END:VEVENT

END:VCALENDAR
