BEGIN:VCALENDAR
VERSION:2.0
PRODID:-//ChamberMaster//Event Calendar 2.0//EN
METHOD:PUBLISH
X-PUBLISHED-TTL:P3D
REFRESH-INTERVAL:P3D
CALSCALE:GREGORIAN
BEGIN:VEVENT
DTSTART:20251021T180000Z
DTEND:20251021T203000Z
X-MICROSOFT-CDO-ALLDAYEVENT:FALSE
SUMMARY:Freedom Resource Center Open House
DESCRIPTION:This event is an open house for the community to get to know the new Independent Living Disability Advocate for the Richland/Wilkin counties. There will be drinks and snacks provided!
X-ALT-DESC;FMTTYPE=text/html:This event is an open house for the community to get to know the new Independent Living Disability Advocate for the Richland/Wilkin counties. There will be drinks and snacks provided!
LOCATION:Optimist Shelter - Chahinkapa Park
UID:e.417.6394
SEQUENCE:3
DTSTAMP:20260421T171258Z
URL:https://business.wahpetonbreckenridgechamber.com/events/details/freedom-resource-center-open-house-6394
END:VEVENT

END:VCALENDAR
