BEGIN:VCALENDAR
VERSION:2.0
PRODID:-//ChamberMaster//Event Calendar 2.0//EN
METHOD:PUBLISH
X-PUBLISHED-TTL:P3D
REFRESH-INTERVAL:P3D
CALSCALE:GREGORIAN
BEGIN:VEVENT
DTSTART:20240516T170000Z
DTEND:20240516T190000Z
X-MICROSOFT-CDO-ALLDAYEVENT:FALSE
SUMMARY:Freedom Resource Appreciation Luncheon Awards Event
DESCRIPTION:Freedom Resource Center 35th Anniversary Appreciation Luncheon Awards Event
X-ALT-DESC;FMTTYPE=text/html:Freedom Resource Center 35th Anniversary Appreciation Luncheon Awards Event
LOCATION:Avalon Event Center 2525 9th Ave S\, Fargo\, ND 58103
UID:e.417.5453
SEQUENCE:3
DTSTAMP:20260425T163647Z
URL:https://business.wahpetonbreckenridgechamber.com/events/details/freedom-resource-appreciation-luncheon-awards-event-5453
END:VEVENT

END:VCALENDAR
