BEGIN:VCALENDAR
VERSION:2.0
PRODID:-//ChamberMaster//Event Calendar 2.0//EN
METHOD:PUBLISH
X-PUBLISHED-TTL:P3D
REFRESH-INTERVAL:P3D
CALSCALE:GREGORIAN
BEGIN:VEVENT
DTSTART:20251110T190000Z
DTEND:20251110T233000Z
X-MICROSOFT-CDO-ALLDAYEVENT:FALSE
SUMMARY:FREE Youth 10 & up Pool Tournament @ BFCC
DESCRIPTION:oin us for our Monday Madness Pool Tournament for youth ages 10 & up! Winner receives a FREE Teen Center combo plate! Don't want to play in the pool tournament? No problem\, we have SO MANY indoor and outdoor game options to choose from!! Admission & participation are FREE! Concessions are available for purchase. Youth under 10 are welcome\, but must be accompanied by an adult.
X-ALT-DESC;FMTTYPE=text/html:oin us for our Monday Madness Pool Tournament for youth ages 10 &amp\; up! Winner receives a FREE Teen Center combo plate! Don&#39\;t want to play in the pool tournament? No problem\, we have SO MANY indoor and outdoor game options to choose from!! Admission &amp\; participation are FREE! Concessions are available for purchase. Youth under 10 are welcome\, but must be accompanied by an adult.
LOCATION:Breckenridge Family Community/Teen Center 521 6th Street North Breckenridge
UID:e.417.6420
SEQUENCE:3
DTSTAMP:20260421T155746Z
URL:https://business.wahpetonbreckenridgechamber.com/events/details/free-youth-10-up-pool-tournament-bfcc-6420
END:VEVENT

END:VCALENDAR
