BEGIN:VCALENDAR
VERSION:2.0
PRODID:-//ChamberMaster//Event Calendar 2.0//EN
METHOD:PUBLISH
X-PUBLISHED-TTL:P3D
REFRESH-INTERVAL:P3D
CALSCALE:GREGORIAN
BEGIN:VEVENT
DTSTART:20260227T210000Z
DTEND:20260228T010000Z
X-MICROSOFT-CDO-ALLDAYEVENT:FALSE
SUMMARY:FREE Craft Day @ BFACC
DESCRIPTION:We're going to have SO much fun with our make-and-take "Air Dry Clay" craft at the Teen Center!!\n\nAs usual\, this ALL AGES event is FREE\, and concessions will be available for purchase.\n\n*Reminder that youth under 10 must be accompanied by an adult.
X-ALT-DESC;FMTTYPE=text/html:<div class="xdj266r x14z9mp xat24cr x1lziwak x1vvkbs" style="overflow-wrap: break-word\; margin-inline: 0px\; margin-bottom: 0px\; margin-top: 0px\; font-family: &quot\;Segoe UI Historic&quot\;\, &quot\;Segoe UI&quot\;\, Helvetica\, Arial\, sans-serif\; color: rgb(226\, 229\, 233)\; font-size: 15px\; background-color: rgb(37\, 39\, 40)\;">We&#39\;re going to have SO much fun with our make-and-take &quot\;Air Dry Clay&quot\; craft at the Teen Center!!</div>\n\n<div class="x14z9mp xat24cr x1lziwak x1vvkbs xtlvy1s" style="overflow-wrap: break-word\; margin-top: 0.5em\; margin-inline: 0px\; margin-bottom: 0px\; font-family: &quot\;Segoe UI Historic&quot\;\, &quot\;Segoe UI&quot\;\, Helvetica\, Arial\, sans-serif\; color: rgb(226\, 229\, 233)\; font-size: 15px\; background-color: rgb(37\, 39\, 40)\;">As usual\, this ALL AGES event is FREE\, and concessions will be available for purchase.</div>\n\n<div class="x14z9mp xat24cr x1lziwak x1vvkbs xtlvy1s" style="overflow-wrap: break-word\; margin-top: 0.5em\; margin-inline: 0px\; margin-bottom: 0px\; font-family: &quot\;Segoe UI Historic&quot\;\, &quot\;Segoe UI&quot\;\, Helvetica\, Arial\, sans-serif\; color: rgb(226\, 229\, 233)\; font-size: 15px\; background-color: rgb(37\, 39\, 40)\;">*Reminder that youth under 10 must be accompanied by an adult.</div>\n
LOCATION:Breck Family Community Center
UID:e.417.7025
SEQUENCE:3
DTSTAMP:20260421T115400Z
URL:https://business.wahpetonbreckenridgechamber.com/events/details/free-craft-day-bfacc-7025
END:VEVENT

END:VCALENDAR
