BEGIN:VCALENDAR
VERSION:2.0
PRODID:-//ChamberMaster//Event Calendar 2.0//EN
METHOD:PUBLISH
X-PUBLISHED-TTL:P3D
REFRESH-INTERVAL:P3D
CALSCALE:GREGORIAN
BEGIN:VEVENT
DTSTART:20240513T233000Z
DTEND:20240514T010000Z
X-MICROSOFT-CDO-ALLDAYEVENT:FALSE
SUMMARY:Foster Care & Adoption Inquiry Meeting
DESCRIPTION:Foster Care & Adoption Inquiry Meeting
X-ALT-DESC;FMTTYPE=text/html:Foster Care &amp\; Adoption Inquiry Meeting
LOCATION:Dakota Coffee 1001 2nd Ave S Wahpeton\, ND 58075
UID:e.417.5449
SEQUENCE:3
DTSTAMP:20260425T163713Z
URL:https://business.wahpetonbreckenridgechamber.com/events/details/foster-care-adoption-inquiry-meeting-5449
END:VEVENT

END:VCALENDAR
