BEGIN:VCALENDAR
VERSION:2.0
PRODID:-//ChamberMaster//Event Calendar 2.0//EN
METHOD:PUBLISH
X-PUBLISHED-TTL:P3D
REFRESH-INTERVAL:P3D
CALSCALE:GREGORIAN
BEGIN:VEVENT
DTSTART:20251013T140000Z
DTEND:20251013T200000Z
X-MICROSOFT-CDO-ALLDAYEVENT:FALSE
SUMMARY:Fire Extinguisher Service Day
DESCRIPTION:Midwest Fire & Safety Fire Extinguisher Service Day\n\n\n\nFire Prevention week is October 5th -11th! Fire extinguishers can be a small but important part of your fire and safety plan. When was the last time your fire extinguisher was checked or certified?
X-ALT-DESC;FMTTYPE=text/html:Midwest Fire &amp\; Safety Fire Extinguisher Service Day<br />\n<br />\n<span class="a_GcMg font-feature-liga-off font-feature-clig-off font-feature-calt-off text-decoration-none text-strikethrough-none" style="caret-color: rgb(255\, 255\, 255)\; --Ys-XuQ: none\; font-kerning: none\;">Fire Prevention week is October 5th -11th! Fire extinguishers can be a small but important part of your fire and safety plan. When was the last time your fire extinguisher was check</span><span class="a_GcMg font-feature-liga-off font-feature-clig-off font-feature-calt-off text-decoration-none text-strikethrough-none" style="caret-color: rgb(255\, 255\, 255)\; --Ys-XuQ: none\; font-kerning: none\;">ed or certified?</span>
LOCATION:Wahpeton Breckenridge Chamber of Commerce 1505 11th St N Wahpeton\, Nd 58075
UID:e.417.6374
SEQUENCE:3
DTSTAMP:20260421T170939Z
URL:https://business.wahpetonbreckenridgechamber.com/events/details/fire-extinguisher-service-day-6374
END:VEVENT

END:VCALENDAR
