BEGIN:VCALENDAR
VERSION:2.0
PRODID:-//ChamberMaster//Event Calendar 2.0//EN
METHOD:PUBLISH
X-PUBLISHED-TTL:P3D
REFRESH-INTERVAL:P3D
CALSCALE:GREGORIAN
BEGIN:VEVENT
DTSTART:20240324T190000Z
DTEND:20240324T213000Z
X-MICROSOFT-CDO-ALLDAYEVENT:FALSE
SUMMARY:Figure Skating Ice Show
DESCRIPTION:Southern Valley Figure Skating Club Presents 40th Annual Ice Show
X-ALT-DESC;FMTTYPE=text/html:Southern Valley Figure Skating Club Presents 40th Annual Ice Show
LOCATION:Harry Stern & Ella Stern Sports Arena\, Wahpeton\, ND
UID:e.417.5107
SEQUENCE:3
DTSTAMP:20260421T151250Z
URL:https://business.wahpetonbreckenridgechamber.com/events/details/figure-skating-ice-show-5107
END:VEVENT

END:VCALENDAR
