BEGIN:VCALENDAR
VERSION:2.0
PRODID:-//ChamberMaster//Event Calendar 2.0//EN
METHOD:PUBLISH
X-PUBLISHED-TTL:P3D
REFRESH-INTERVAL:P3D
CALSCALE:GREGORIAN
BEGIN:VEVENT
DTSTART:20251231T190000Z
DTEND:20260101T000000Z
X-MICROSOFT-CDO-ALLDAYEVENT:FALSE
SUMMARY:Family New Years Eve Party - FREE
DESCRIPTION:We're ringing in the new year Berlin Style!\n\nWe will have:\n\n*$1 Skating\n\n*FREE cider\n\n*A drawing for kids to pull the cord on our Berlin New Year Balloon Drop at 5:00pm!\n\nDate: Wednesday\, Dec. 31st\n\nTime: 1:00-6:00pm
X-ALT-DESC;FMTTYPE=text/html:<span background-color:="" font-size:="" segoe="" ui="">We&#39\;re ringing in the new year Berlin Style!</span><br background-color:="" class="html-br" font-size:="" segoe="" style="color: rgb(226\, 229\, 233)\; font-family: " ui="" />\n<span background-color:="" font-size:="" segoe="" ui="">We will have:</span><br background-color:="" class="html-br" font-size:="" segoe="" style="color: rgb(226\, 229\, 233)\; font-family: " ui="" />\n<span background-color:="" font-size:="" segoe="" ui="">*$1 Skating</span><br background-color:="" class="html-br" font-size:="" segoe="" style="color: rgb(226\, 229\, 233)\; font-family: " ui="" />\n<span background-color:="" font-size:="" segoe="" ui="">*FREE cider</span><br background-color:="" class="html-br" font-size:="" segoe="" style="color: rgb(226\, 229\, 233)\; font-family: " ui="" />\n<span background-color:="" font-size:="" segoe="" ui="">*A drawing for kids to pull the cord on our Berlin New Year Balloon Drop at 5:00pm!</span><br background-color:="" class="html-br" font-size:="" segoe="" style="color: rgb(226\, 229\, 233)\; font-family: " ui="" />\n<span background-color:="" font-size:="" segoe="" ui="">Date: Wednesday\, Dec. 31st</span><br background-color:="" class="html-br" font-size:="" segoe="" style="color: rgb(226\, 229\, 233)\; font-family: " ui="" />\n<span background-color:="" font-size:="" segoe="" ui="">Time: 1:00-6:00pm</span><span background-color:="" font-size:="" segoe="" ui="">&nbsp\;</span>
LOCATION:Breck Family Community center
UID:e.417.6520
SEQUENCE:3
DTSTAMP:20260421T144306Z
URL:https://business.wahpetonbreckenridgechamber.com/events/details/family-new-years-eve-party-free-6520
END:VEVENT

END:VCALENDAR
