BEGIN:VCALENDAR
VERSION:2.0
PRODID:-//ChamberMaster//Event Calendar 2.0//EN
METHOD:PUBLISH
X-PUBLISHED-TTL:P3D
REFRESH-INTERVAL:P3D
CALSCALE:GREGORIAN
BEGIN:VEVENT
DTSTART:20250916T220000Z
DTEND:20250917T000000Z
X-MICROSOFT-CDO-ALLDAYEVENT:FALSE
SUMMARY:Family Fun Night @ Breck Family Community Center
DESCRIPTION:The Breckenridge Family Community/Teen Center Presents Family FUn Night!\n\nYear rouud youth program fundraiser.\n\nEvents:\n\n_Police Department tug of war\n\n- rock climbing wall\n\nface painting\n\nfire gear to try on \n\n+so much more!\n\n\n\nPrize registration is $1 per ticket!
X-ALT-DESC;FMTTYPE=text/html:The Breckenridge Family Community/Teen Center Presents Family FUn Night!<br />\nYear rouud youth program fundraiser.<br />\nEvents:<br />\n_Police Department tug of war<br />\n- rock climbing wall<br />\nface painting<br />\nfire gear to try on&nbsp\;<br />\n+so much more!<br />\n<br />\nPrize registration is $1 per ticket!
LOCATION:Breckenridge Family/Teen Community Center
UID:e.417.6284
SEQUENCE:3
DTSTAMP:20260421T184241Z
URL:https://business.wahpetonbreckenridgechamber.com/events/details/family-fun-night-breck-family-community-center-6284
END:VEVENT

END:VCALENDAR
