BEGIN:VCALENDAR
VERSION:2.0
PRODID:-//ChamberMaster//Event Calendar 2.0//EN
METHOD:PUBLISH
X-PUBLISHED-TTL:P3D
REFRESH-INTERVAL:P3D
CALSCALE:GREGORIAN
BEGIN:VEVENT
DTSTART:20251015T230000Z
DTEND:20251016T010000Z
X-MICROSOFT-CDO-ALLDAYEVENT:FALSE
SUMMARY:Fall Social with the Zonta Club
DESCRIPTION:You're invited\n\nZonta Club of Breckenridge Wahpeton Fall Social\n\n\n\nThere's nothing spooky about being a Zonta Club member - join us for a fun fall craft and learn about the club!\n\n\n\nPlease RSVP call/text Danielle 701-403-2080 or Jodi 701-403-9671 or on Facebook
X-ALT-DESC;FMTTYPE=text/html:You&#39\;re invited<br />\nZonta Club of Breckenridge Wahpeton Fall Social<br />\n<br />\nThere&#39\;s nothing spooky about being a Zonta Club member - join us for a fun fall craft and learn about the club!<br />\n<br />\nPlease RSVP call/text Danielle 701-403-2080 or Jodi 701-403-9671 or on Facebook
LOCATION:Wahpeton City Brew Hall
UID:e.417.6363
SEQUENCE:3
DTSTAMP:20260421T171355Z
URL:https://business.wahpetonbreckenridgechamber.com/events/details/fall-social-with-the-zonta-club-6363
END:VEVENT

END:VCALENDAR
