BEGIN:VCALENDAR
VERSION:2.0
PRODID:-//ChamberMaster//Event Calendar 2.0//EN
METHOD:PUBLISH
X-PUBLISHED-TTL:P3D
REFRESH-INTERVAL:P3D
CALSCALE:GREGORIAN
BEGIN:VEVENT
DTSTART:20251011T220000Z
DTEND:20251012T020000Z
X-MICROSOFT-CDO-ALLDAYEVENT:FALSE
SUMMARY:Fall Parents Night Out @ KrAz Dance
DESCRIPTION:Fall Parents Night out @ KrAz Dance Studio\n\nChildren ages 5-12\n\n\n\n-Glow in the dark dance party\n\n-Bob for apples\n\n-Fall themed craft\n\n-Halloween movie\n\n\n\nSupper & snack included\n\n$40 per child (limited space)
X-ALT-DESC;FMTTYPE=text/html:Fall Parents Night out @ KrAz Dance Studio<br />\nChildren ages 5-12<br />\n<br />\n-Glow in the dark dance party<br />\n-Bob for apples<br />\n-Fall themed craft<br />\n-Halloween movie<br />\n<br />\nSupper &amp\; snack included<br />\n$40 per child (limited space)
LOCATION:KrAz Dance Studio
UID:e.417.6377
SEQUENCE:3
DTSTAMP:20260421T171104Z
URL:https://business.wahpetonbreckenridgechamber.com/events/details/fall-parents-night-out-kraz-dance-6377
END:VEVENT

END:VCALENDAR
