BEGIN:VCALENDAR
VERSION:2.0
PRODID:-//ChamberMaster//Event Calendar 2.0//EN
METHOD:PUBLISH
X-PUBLISHED-TTL:P3D
REFRESH-INTERVAL:P3D
CALSCALE:GREGORIAN
BEGIN:VEVENT
DTSTART:20231025T003000Z
DTEND:20231025T020000Z
X-MICROSOFT-CDO-ALLDAYEVENT:FALSE
SUMMARY:Fall Concert
DESCRIPTION:Fall Concert\n\nJoin the NDSCS music groups in the first home concert of the season!
X-ALT-DESC;FMTTYPE=text/html:Fall Concert<br />\n<span style="color: rgb(228\, 230\, 235)\; font-family: &quot\;Segoe UI Historic&quot\;\, &quot\;Segoe UI&quot\;\, Helvetica\, Arial\, sans-serif\; font-size: 15px\; background-color: rgb(36\, 37\, 38)\;">Join the NDSCS music groups in the first home concert of the season!</span>
LOCATION:Bremer Bank Theatre - Harry Stern and Ela Stern Cultural Center
UID:e.417.5013
SEQUENCE:3
DTSTAMP:20260419T144849Z
URL:https://business.wahpetonbreckenridgechamber.com/events/details/fall-concert-5013
END:VEVENT

END:VCALENDAR
