BEGIN:VCALENDAR
VERSION:2.0
PRODID:-//ChamberMaster//Event Calendar 2.0//EN
METHOD:PUBLISH
X-PUBLISHED-TTL:P3D
REFRESH-INTERVAL:P3D
CALSCALE:GREGORIAN
BEGIN:VEVENT
DTSTART:20251011T180000Z
DTEND:20251011T200000Z
X-MICROSOFT-CDO-ALLDAYEVENT:FALSE
SUMMARY:Fall Bazaar - Evergreen United Methodist Church
DESCRIPTION:Fall Bazaar\n\nSave the date!!\n\nStop by for pie and coffee\, check out the bake sale and sewing/craft items\, and enjoy a time of food\, fun\, and fellowship!!\n\n\n\nHope to see YOU there!!
X-ALT-DESC;FMTTYPE=text/html:<span><span><span class="x193iq5w xeuugli x13faqbe x1vvkbs x1xmvt09 x1lliihq x1s928wv xhkezso x1gmr53x x1cpjm7i x1fgarty x1943h6x xudqn12 x3x7a5m x6prxxf xvq8zen xo1l8bm xzsf02u x1yc453h" dir="auto">Fall Bazaar<br />\nSave the date!!<br />\nStop by for pie and coffee\, check out the bake sale and sewing/craft items\, and enjoy a time of food\, fun\, and fellowship!!<br />\n<br />\nHope to see YOU there!!</span></span></span>
LOCATION:Evergreen United Methodist Church 1120 Evergreen Court Wahpeton\, ND 58075
UID:e.417.6376
SEQUENCE:3
DTSTAMP:20260421T171139Z
URL:https://business.wahpetonbreckenridgechamber.com/events/details/fall-bazaar-evergreen-united-methodist-church-6376
END:VEVENT

END:VCALENDAR
