BEGIN:VCALENDAR
VERSION:2.0
PRODID:-//ChamberMaster//Event Calendar 2.0//EN
METHOD:PUBLISH
X-PUBLISHED-TTL:P3D
REFRESH-INTERVAL:P3D
CALSCALE:GREGORIAN
BEGIN:VEVENT
DTSTART:20251219T010000Z
DTEND:20251219T030000Z
X-MICROSOFT-CDO-ALLDAYEVENT:FALSE
SUMMARY:Fa La La La Funk at The 44 Venue
DESCRIPTION:Experience the ultimate holiday concert with a funky twist. Fargo's favorite horn-powered classic rock band is bringing the groove to Colfax for a holiday concert like no other. ?? General Admission Tickets: $25 | All Ages
X-ALT-DESC;FMTTYPE=text/html:Experience the ultimate holiday concert with a funky twist. Fargo&rsquo\;s favorite horn-powered classic rock band is bringing the groove to Colfax for a holiday concert like no other. ?? General Admission Tickets: $25 | All Ages
LOCATION:The 44 Venue - 15 Main Ave. Colfax\, ND
UID:e.417.6480
SEQUENCE:3
DTSTAMP:20260421T144024Z
URL:https://business.wahpetonbreckenridgechamber.com/events/details/fa-la-la-la-funk-at-the-44-venue-6480
END:VEVENT

END:VCALENDAR
