BEGIN:VCALENDAR
VERSION:2.0
PRODID:-//ChamberMaster//Event Calendar 2.0//EN
METHOD:PUBLISH
X-PUBLISHED-TTL:P3D
REFRESH-INTERVAL:P3D
CALSCALE:GREGORIAN
BEGIN:VEVENT
DTSTART:20260202T233000Z
DTEND:20260203T023000Z
X-MICROSOFT-CDO-ALLDAYEVENT:FALSE
SUMMARY:Empower
DESCRIPTION:Join us on February 2nd at 5:30 PM in The Alley at NDSCS for an evening dedicated to connection\, confidence\, and community   all while raising funds for NDSCS Student Scholarships.\n\nEnjoy a fashion show featuring local boutiques\, an inspiring keynote by Rebecca Undem\, and a special silent auction showcasing one-of-a-kind centerpieces sponsored by local businesses   each available for bidding.
X-ALT-DESC;FMTTYPE=text/html:<div background-color:="" class="xdj266r x14z9mp xat24cr x1lziwak x1vvkbs" color:="" font-size:="" segoe="" style="overflow-wrap: break-word\; margin-inline: 0px\; margin-bottom: 0px\; margin-top: 0px\; font-family: " ui="">Join us on February 2nd at 5:30 PM in The Alley at NDSCS for an evening dedicated to connection\, confidence\, and community &mdash\; all while raising funds for NDSCS Student Scholarships.</div>\n\n<div background-color:="" class="x14z9mp xat24cr x1lziwak x1vvkbs xtlvy1s" color:="" font-size:="" segoe="" style="overflow-wrap: break-word\; margin-top: 0.5em\; margin-inline: 0px\; margin-bottom: 0px\; font-family: " ui="">Enjoy a fashion show featuring local boutiques\, an inspiring keynote by Rebecca Undem\, and a special silent auction showcasing one-of-a-kind centerpieces sponsored by local businesses &mdash\; each available for bidding.</div>\n
LOCATION:The Alley\, Hektner Student Union - NDSCS Wahpeton
UID:e.417.6515
SEQUENCE:3
DTSTAMP:20260421T115135Z
URL:https://business.wahpetonbreckenridgechamber.com/events/details/empower-6515
END:VEVENT

END:VCALENDAR
