BEGIN:VCALENDAR
VERSION:2.0
PRODID:-//ChamberMaster//Event Calendar 2.0//EN
METHOD:PUBLISH
X-PUBLISHED-TTL:P3D
REFRESH-INTERVAL:P3D
CALSCALE:GREGORIAN
BEGIN:VEVENT
DTSTART:20231031T110000Z
DTEND:20231101T030000Z
X-MICROSOFT-CDO-ALLDAYEVENT:FALSE
SUMMARY:Econo Foods - Trick or Treat
DESCRIPTION:Econo Foods Trick or Treat\n\nWe encourage kids to dress up and stop in for some candy from each department!
X-ALT-DESC;FMTTYPE=text/html:Econo Foods Trick or Treat<br />\nWe encourage kids to dress up and stop in for some candy from each department!
LOCATION:Econo Foods
UID:e.417.5030
SEQUENCE:3
DTSTAMP:20260419T150016Z
URL:https://business.wahpetonbreckenridgechamber.com/events/details/econo-foods-trick-or-treat-5030
END:VEVENT

END:VCALENDAR
