BEGIN:VCALENDAR
VERSION:2.0
PRODID:-//ChamberMaster//Event Calendar 2.0//EN
METHOD:PUBLISH
X-PUBLISHED-TTL:P3D
REFRESH-INTERVAL:P3D
CALSCALE:GREGORIAN
BEGIN:VEVENT
DTSTART:20240324T003000Z
DTEND:20240324T013000Z
X-MICROSOFT-CDO-ALLDAYEVENT:FALSE
SUMMARY:Easter Cantata: To the Risen King
DESCRIPTION:2024 Easter Cantata: To the Risen King
X-ALT-DESC;FMTTYPE=text/html:<span style="font-size:18px\;"><span style="font-family:arial\;"><strong>2024 Easter Cantata: To the Risen King</strong></span></span>
LOCATION:St John's Catholic Church\, Wahpeton\, ND
UID:e.417.5099
SEQUENCE:3
DTSTAMP:20260421T150430Z
URL:https://business.wahpetonbreckenridgechamber.com/events/details/easter-cantata-to-the-risen-king-03-23-2024-5099
END:VEVENT

END:VCALENDAR
