BEGIN:VCALENDAR
VERSION:2.0
PRODID:-//ChamberMaster//Event Calendar 2.0//EN
METHOD:PUBLISH
X-PUBLISHED-TTL:P3D
REFRESH-INTERVAL:P3D
CALSCALE:GREGORIAN
BEGIN:VEVENT
DTSTART:20250929T223000Z
DTEND:20250929T233000Z
X-MICROSOFT-CDO-ALLDAYEVENT:FALSE
SUMMARY:DIY Recycled Bookmarks
DESCRIPTION:DIY Recycled Bookmarks\nPut your creative cap on to give a new life to old books and magazines!\n\nJoin us at the Breckenridge Public Library for a crafting session to create unique one-of-a-kind bookmarks with recycled books and magazines. Whether you're into bold collages\, aesthetic vibes\, or quirky quotes\, this is your chance to create something totally you. All supplies provided   just bring your imagination!
X-ALT-DESC;FMTTYPE=text/html:DIY Recycled Bookmarks\n<div background-color:="" class="xdj266r x14z9mp xat24cr x1lziwak x1vvkbs" color:="" font-size:="" segoe="" style="overflow-wrap: break-word\; margin-inline: 0px\; margin-bottom: 0px\; margin-top: 0px\; font-family: " ui="">Put your creative cap on to give a new life to old books and magazines!</div>\n\n<div background-color:="" class="x14z9mp xat24cr x1lziwak x1vvkbs xtlvy1s" color:="" font-size:="" segoe="" style="overflow-wrap: break-word\; margin-top: 0.5em\; margin-inline: 0px\; margin-bottom: 0px\; font-family: " ui="">Join us at the Breckenridge Public Library for a crafting session to create unique one-of-a-kind bookmarks with recycled books and magazines. Whether you&rsquo\;re into bold collages\, aesthetic vibes\, or quirky quotes\, this is your chance to create something totally you. All supplies provided &mdash\; just bring your imagination!</div>\n
LOCATION:Breckenridge Public Library
UID:e.417.6359
SEQUENCE:3
DTSTAMP:20260421T183737Z
URL:https://business.wahpetonbreckenridgechamber.com/events/details/diy-recycled-bookmarks-6359
END:VEVENT

END:VCALENDAR
