BEGIN:VCALENDAR
VERSION:2.0
PRODID:-//ChamberMaster//Event Calendar 2.0//EN
METHOD:PUBLISH
X-PUBLISHED-TTL:P3D
REFRESH-INTERVAL:P3D
CALSCALE:GREGORIAN
BEGIN:VEVENT
DTSTART:20230107T230000Z
DTEND:20230108T023000Z
X-MICROSOFT-CDO-ALLDAYEVENT:FALSE
SUMMARY:Devin Wichael Benefit
DESCRIPTION:Devin Wichael Benefit at the Wahpeton Community Center.  Devin was diagnosed in April\, 2022 with Synovial Sarcoma. He has undergone months of chemo\, radiation and finally surgery to remove the tumor. After surgery\, another 3 rounds of chemo was prescribed. Money raised will help with medical & travel expenses.
X-ALT-DESC;FMTTYPE=text/html:<span style="color: rgb(5\, 5\, 5)\; font-family: &quot\;Segoe UI Historic&quot\;\, &quot\;Segoe UI&quot\;\, Helvetica\, Arial\, sans-serif\; font-size: 15px\;">Devin Wichael Benefit at the Wahpeton Community Center.&nbsp\; Devin was diagnosed in April\, 2022 with Synovial Sarcoma. He has undergone months of chemo\, radiation and finally surgery to remove the tumor. After surgery\, another 3 rounds of chemo was prescribed. Money raised will help with medical &amp\; travel expenses.</span>
LOCATION:
UID:e.417.4331
SEQUENCE:3
DTSTAMP:20260421T114608Z
URL:https://business.wahpetonbreckenridgechamber.com/events/details/devin-wichael-benefit-4331
END:VEVENT

END:VCALENDAR
