BEGIN:VCALENDAR
VERSION:2.0
PRODID:-//ChamberMaster//Event Calendar 2.0//EN
METHOD:PUBLISH
X-PUBLISHED-TTL:P3D
REFRESH-INTERVAL:P3D
CALSCALE:GREGORIAN
BEGIN:VEVENT
DTSTART:20260511T180000Z
DTEND:20260511T190000Z
X-MICROSOFT-CDO-ALLDAYEVENT:FALSE
SUMMARY:Dear Jacob: An Author Visit with Patty Wetterling & Joy Baker
DESCRIPTION:Dear Jacob: An Author Visit with Patty Wetterling & Joy Baker\nJoin us for a deeply moving program as we welcome Patty Wetterling and co-author Joy Baker to discuss their memoir\, Dear Jacob: A Mother's Journey of Hope.\n\nThe disappearance of Jacob Wetterling was a story that haunted Minnesota and transformed the nation. In this special author visit\, Patty Wetterling shares the intimate\, behind-the-scenes account of those decades - not just as a search for a missing son\, but as a testament to a mother's unwavering love and a community's resilience. Together with Joy Baker\, the blogger whose independent research helped lead to the breakthrough in the case\, they will discuss the bond they formed and the power of never giving up.\n\nBooks will be available for purchase at the event with a book signing following the presentation.\n\nAdmission is free\, thanks in part to funding from the Minnesota Arts & Cultural Heritage Legacy Fund.
X-ALT-DESC;FMTTYPE=text/html:Dear Jacob: An Author Visit with Patty Wetterling &amp\; Joy Baker\n<div background-color:="" class="xdj266r x14z9mp xat24cr x1lziwak x1vvkbs" color:="" font-size:="" segoe="" style="margin-inline: 0px\; overflow-wrap: break-word\; margin-bottom: 0px\; margin-top: 0px\; font-family: " ui="">Join us for a deeply moving program as we welcome Patty Wetterling and co-author Joy Baker to discuss their memoir\, Dear Jacob: A Mother&#39\;s Journey of Hope.<br class="html-br" />\nThe disappearance of Jacob Wetterling was a story that haunted Minnesota and transformed the nation. In this special author visit\, Patty Wetterling shares the intimate\, behind-the-scenes account of those decades - not just as a search for a missing son\, but as a testament to a mother&rsquo\;s unwavering love and a community&rsquo\;s resilience. Together with Joy Baker\, the blogger whose independent research helped lead to the breakthrough in the case\, they will discuss the bond they formed and the power of never giving up.</div>\n\n<div background-color:="" class="x14z9mp xat24cr x1lziwak x1vvkbs xtlvy1s" color:="" font-size:="" segoe="" style="margin-inline: 0px\; overflow-wrap: break-word\; margin-bottom: 0px\; margin-top: 0.5em\; font-family: " ui="">Books will be available for purchase at the event with a book signing following the presentation.</div>\n\n<div background-color:="" class="x14z9mp xat24cr x1lziwak x1vvkbs xtlvy1s" color:="" font-size:="" segoe="" style="margin-inline: 0px\; overflow-wrap: break-word\; margin-bottom: 0px\; margin-top: 0.5em\; font-family: " ui="">Admission is free\, thanks in part to funding from the Minnesota Arts &amp\; Cultural Heritage Legacy Fund.</div>\n
LOCATION:Breck Public Library
UID:e.417.7112
SEQUENCE:3
DTSTAMP:20260423T191014Z
URL:https://business.wahpetonbreckenridgechamber.com/events/details/dear-jacob-an-author-visit-with-patty-wetterling-joy-baker-7112
END:VEVENT

END:VCALENDAR
