BEGIN:VCALENDAR
VERSION:2.0
PRODID:-//ChamberMaster//Event Calendar 2.0//EN
METHOD:PUBLISH
X-PUBLISHED-TTL:P3D
REFRESH-INTERVAL:P3D
CALSCALE:GREGORIAN
BEGIN:VEVENT
DTSTART:20251016T110000Z
DTEND:20251017T030000Z
X-MICROSOFT-CDO-ALLDAYEVENT:FALSE
SUMMARY:Day of Purple
DESCRIPTION:Purple is the color used throughout October to commemorate Domestic Violence Awareness Month. We encourage you to WEAR PURPLE Thursday\, October 16\, 2025 in unity with others across the country to support\, pay tribute\, and honor friends\, family\, and community members who have experienced domestic violence.\n\nHere is how to participate:\n\nSomeplace Safe invites you to wear purple on October 16th as a way to honor friends\, family\, neighbors\, co-workers\, and community members who have been impacted by domestic violence. Wear your favorite purple shirt\, jacket\, sports jersey\, hat\, scarf or accessory! Get your whole office or friend group involved.\n\nHere is how you may pledge your support:\n\nConsider pledging a few dollars for the privilege of wearing purple on October 16th. You may make a personal contribution or organize a collection of Purple Pledges at work or within your group of friends.\n\n- Purple Pledges may be dropped off at your local office or mailed to: Someplace Safe\, PO Box 815\, Fergus Falls\, MN 56538-0815\n\n- Purple Pledges may also be made online at www.someplacesafe.info/donate (select "Day of Purple Pledge" as the designation)\n\n- Pledge your support via text message by sending the message "@sps" to 52014.\n\nYou can also choose to organize a Day of Purple supply drive. Collect toiletries\, gift cards (gas\, grocery\, local retailers)\, cell phones (in any condition) and quilts for local Someplace Safe clients who are in emergency situations.\n\nHelp publicize the Day of Purple:\n\nShare Day of Purple information at upcoming meetings\, email the information to your co-workers\, or get your social group involved.\n\nHang a Day of Purple poster at work\, in your meeting space or on a community bulletin board. Wear a Day of Purple sticker as symbol of your support and participation. (Free posters and stickers are available by request.)\n\nShare your #dayofpurple participation photos on social media. Show off your favorite purple fashions to your friends and followers!\n\nTo request free Day of Purple posters and stickers\, contact your local Someplace Safe office or email ashley.z@someplacesafe.info
X-ALT-DESC;FMTTYPE=text/html:<div class="xdj266r x14z9mp xat24cr x1lziwak x1vvkbs" style="margin: 0px\; overflow-wrap: break-word\; font-family: &quot\;Segoe UI Historic&quot\;\, &quot\;Segoe UI&quot\;\, Helvetica\, Arial\, sans-serif\; color: rgb(226\, 229\, 233)\; font-size: 15px\; background-color: rgb(37\, 39\, 40)\;">Purple is the color used throughout October to commemorate Domestic Violence Awareness Month. We encourage you to WEAR PURPLE Thursday\, October 16\, 2025 in unity with others across the country to support\, pay tribute\, and honor friends\, family\, and community members who have experienced domestic violence.</div>\n\n<div class="x14z9mp xat24cr x1lziwak x1vvkbs xtlvy1s" style="margin: 0.5em 0px 0px\; overflow-wrap: break-word\; font-family: &quot\;Segoe UI Historic&quot\;\, &quot\;Segoe UI&quot\;\, Helvetica\, Arial\, sans-serif\; color: rgb(226\, 229\, 233)\; font-size: 15px\; background-color: rgb(37\, 39\, 40)\;">Here is how to participate:</div>\n\n<div class="x14z9mp xat24cr x1lziwak x1vvkbs xtlvy1s" style="margin: 0.5em 0px 0px\; overflow-wrap: break-word\; font-family: &quot\;Segoe UI Historic&quot\;\, &quot\;Segoe UI&quot\;\, Helvetica\, Arial\, sans-serif\; color: rgb(226\, 229\, 233)\; font-size: 15px\; background-color: rgb(37\, 39\, 40)\;">Someplace Safe invites you to wear purple on October 16th as a way to honor friends\, family\, neighbors\, co-workers\, and community members who have been impacted by domestic violence. Wear your favorite purple shirt\, jacket\, sports jersey\, hat\, scarf or accessory! Get your whole office or friend group involved.</div>\n\n<div class="x14z9mp xat24cr x1lziwak x1vvkbs xtlvy1s" style="margin: 0.5em 0px 0px\; overflow-wrap: break-word\; font-family: &quot\;Segoe UI Historic&quot\;\, &quot\;Segoe UI&quot\;\, Helvetica\, Arial\, sans-serif\; color: rgb(226\, 229\, 233)\; font-size: 15px\; background-color: rgb(37\, 39\, 40)\;">Here is how you may pledge your support:</div>\n\n<div class="x14z9mp xat24cr x1lziwak x1vvkbs xtlvy1s" style="margin: 0.5em 0px 0px\; overflow-wrap: break-word\; font-family: &quot\;Segoe UI Historic&quot\;\, &quot\;Segoe UI&quot\;\, Helvetica\, Arial\, sans-serif\; color: rgb(226\, 229\, 233)\; font-size: 15px\; background-color: rgb(37\, 39\, 40)\;">Consider pledging a few dollars for the privilege of wearing purple on October 16th. You may make a personal contribution or organize a collection of Purple Pledges at work or within your group of friends.</div>\n\n<div class="x14z9mp xat24cr x1lziwak x1vvkbs xtlvy1s" style="margin: 0.5em 0px 0px\; overflow-wrap: break-word\; font-family: &quot\;Segoe UI Historic&quot\;\, &quot\;Segoe UI&quot\;\, Helvetica\, Arial\, sans-serif\; color: rgb(226\, 229\, 233)\; font-size: 15px\; background-color: rgb(37\, 39\, 40)\;">- Purple Pledges may be dropped off at your local office or mailed to: Someplace Safe\, PO Box 815\, Fergus Falls\, MN 56538-0815</div>\n\n<div class="x14z9mp xat24cr x1lziwak x1vvkbs xtlvy1s" style="margin: 0.5em 0px 0px\; overflow-wrap: break-word\; font-family: &quot\;Segoe UI Historic&quot\;\, &quot\;Segoe UI&quot\;\, Helvetica\, Arial\, sans-serif\; color: rgb(226\, 229\, 233)\; font-size: 15px\; background-color: rgb(37\, 39\, 40)\;">- Purple Pledges may also be made online at&nbsp\;<a attributionsrc="/privacy_sandbox/comet/register/source/?xt=AZXhZueKqBYvIBE8mce8yxBIQWR1_5MkTguASNhZ7hSE5gD3jUOGg9vLfNMK99Brt09epGex5VGzHNvnutFT9WnUQmFl2V1Sk-hEkvwImFMSCpvh47e2HxiftEp8cBA4aMvgTuKD4bTt2bnFK7PLkHMznG0V1wHCwWaDKUs3CEelnE1qez7dEvoXkcLTBOX11I5lZ_C-cTPyopHfdvdc1eZ8SJtBx5Wq35NqLh2oeUlVvqLffvlnG8VJRtfU3a6-dE_t2RMs2tzQ93rxOeawK98aq0k_5paedbuyH81qbG-C6LhEGPnR-qjrGedBcRgXIXgCCZSnTi1lIeYeCJZUqx4lXl0AwAm9n1cGV-qlK7usKpurcbtIyYDaW0h7ZwRZis7rK0k6sGm8WdxzL-LO_1fEo5lVYG4fzuqB88zkMHHmNKJ9SA4wDw4fOy_qPEcO-FCj1cff4ad-udVUbgn1Uwa6FWSM3B3Wbz7G6N5MoWrChlUIxNIUfjGDH5EU9q4Hq8BNU1lorKu6cL_vY_pRHgABNu8RbkvI25PhkEwWAin-9usvUvk7ldhhPoaVZTbI8DUfPRPPwkCxjhWwI98QN1QEc_y86P_p2n8WKqZOJON4LBVFSD_FNFNENAUdujo-wiKAf8F6Q31IApiAvaK6_c9_iz88dWeLAqm_iQG1Ny0OMM33bjr3a7c0Kxpyp2thvj-S9O8-_WyjcnvGGX2lj9T02StmpiGQ8EZDQJl6nNFarmvtcLjQPY4XGNWS4Y5uMj4wFG48HdqLf7KukurYc95qWdgJxSv5izn2LcgOAfFq87oibO0s5ef3yyS2Lxot4QS-ljbQMGlwNOcQXv09vnAYTnwsCGKln4MXB_9DiJVGHA" class="x1i10hfl xjbqb8w x1ejq31n x18oe1m7 x1sy0etr xstzfhl x972fbf x10w94by x1qhh985 x14e42zd x9f619 x1ypdohk xt0psk2 x3ct3a4 xdj266r x14z9mp xat24cr x1lziwak xexx8yu xyri2b x18d9i69 x1c1uobl x16tdsg8 x1hl2dhg xggy1nq x1a2a7pz xkrqix3 x1sur9pj x1fey0fg x1s688f" href="https://l.facebook.com/l.php?u=http%3A%2F%2Fwww.someplacesafe.info%2Fdonate%3Ffbclid%3DIwZXh0bgNhZW0CMTAAYnJpZBExSjdoREo5b1dzeWdQUFZGawEeCbcxKrMQw4egFOYAvIPaI7LY6nvyTfKXXxbA6evarAiUQ4f3ulh9-OiK610_aem_HyBzge22td7s9P9GW46dGQ&amp\;h=AT2ETPazBNS6QkKvSXov8NbtB3Sm21t2h_eLQcQenSyOciWG-3ZvIVqlDg_hALq6oXNxHmlTIm3iyigW5y_0WtmU1g8pL7BlPSU0swGJS7spatBrhaYWVhH68nW6AzfJ1Xe66qP2Ks7rgNNU&amp\;__tn__=q&amp\;c[0]=AT07MQ4nDWtdsfpM0m6SMVa4tZrpXOLNEG32vAZR_NP77R7YKAGm-b0y9u0EO_UlnJ-t2KD5InyDbYSX4Vwf6-cNZTPhx4WKvHy0CN1N-m1zpXtXn92HSON4gNmCn8sw1PMjMSCbD9d539-QzUSVoUkc5eR7XAZvQkY" rel="nofollow noreferrer" role="link" style="color: rgb(90\, 167\, 255)\; cursor: pointer\; text-decoration-line: none\; border-width: 0px\; margin: 0px\; text-align: inherit\; border-style: none\; padding: 0px\; list-style-type: none\; box-sizing: border-box\; background-color: transparent\; outline: none\; -webkit-tap-highlight-color: transparent\; font-weight: 600\; touch-action: manipulation\; display: inline\; font-family: inherit\;" tabindex="0" target="_blank">www.someplacesafe.info/donate</a>&nbsp\;(select &ldquo\;Day of Purple Pledge&rdquo\; as the designation)</div>\n\n<div class="x14z9mp xat24cr x1lziwak x1vvkbs xtlvy1s" style="margin: 0.5em 0px 0px\; overflow-wrap: break-word\; font-family: &quot\;Segoe UI Historic&quot\;\, &quot\;Segoe UI&quot\;\, Helvetica\, Arial\, sans-serif\; color: rgb(226\, 229\, 233)\; font-size: 15px\; background-color: rgb(37\, 39\, 40)\;">- Pledge your support via text message by sending the message &ldquo\;@sps&rdquo\; to 52014.</div>\n\n<div class="x14z9mp xat24cr x1lziwak x1vvkbs xtlvy1s" style="margin: 0.5em 0px 0px\; overflow-wrap: break-word\; font-family: &quot\;Segoe UI Historic&quot\;\, &quot\;Segoe UI&quot\;\, Helvetica\, Arial\, sans-serif\; color: rgb(226\, 229\, 233)\; font-size: 15px\; background-color: rgb(37\, 39\, 40)\;">You can also choose to organize a Day of Purple supply drive. Collect toiletries\, gift cards (gas\, grocery\, local retailers)\, cell phones (in any condition) and quilts for local Someplace Safe clients who are in emergency situations.</div>\n\n<div class="x14z9mp xat24cr x1lziwak x1vvkbs xtlvy1s" style="margin: 0.5em 0px 0px\; overflow-wrap: break-word\; font-family: &quot\;Segoe UI Historic&quot\;\, &quot\;Segoe UI&quot\;\, Helvetica\, Arial\, sans-serif\; color: rgb(226\, 229\, 233)\; font-size: 15px\; background-color: rgb(37\, 39\, 40)\;">Help publicize the Day of Purple:</div>\n\n<div class="x14z9mp xat24cr x1lziwak x1vvkbs xtlvy1s" style="margin: 0.5em 0px 0px\; overflow-wrap: break-word\; font-family: &quot\;Segoe UI Historic&quot\;\, &quot\;Segoe UI&quot\;\, Helvetica\, Arial\, sans-serif\; color: rgb(226\, 229\, 233)\; font-size: 15px\; background-color: rgb(37\, 39\, 40)\;">Share Day of Purple information at upcoming meetings\, email the information to your co-workers\, or get your social group involved.<br class="html-br" />\nHang a Day of Purple poster at work\, in your meeting space or on a community bulletin board. Wear a Day of Purple sticker as symbol of your support and participation. (Free posters and stickers are available by request.)</div>\n\n<div class="x14z9mp xat24cr x1lziwak x1vvkbs xtlvy1s" style="margin: 0.5em 0px 0px\; overflow-wrap: break-word\; font-family: &quot\;Segoe UI Historic&quot\;\, &quot\;Segoe UI&quot\;\, Helvetica\, Arial\, sans-serif\; color: rgb(226\, 229\, 233)\; font-size: 15px\; background-color: rgb(37\, 39\, 40)\;">Share your&nbsp\;<a attributionsrc="/privacy_sandbox/comet/register/source/?xt=AZXhZueKqBYvIBE8mce8yxBIQWR1_5MkTguASNhZ7hSE5gD3jUOGg9vLfNMK99Brt09epGex5VGzHNvnutFT9WnUQmFl2V1Sk-hEkvwImFMSCpvh47e2HxiftEp8cBA4aMvgTuKD4bTt2bnFK7PLkHMznG0V1wHCwWaDKUs3CEelnE1qez7dEvoXkcLTBOX11I5lZ_C-cTPyopHfdvdc1eZ8SJtBx5Wq35NqLh2oeUlVvqLffvlnG8VJRtfU3a6-dE_t2RMs2tzQ93rxOeawK98aq0k_5paedbuyH81qbG-C6LhEGPnR-qjrGedBcRgXIXgCCZSnTi1lIeYeCJZUqx4lXl0AwAm9n1cGV-qlK7usKpurcbtIyYDaW0h7ZwRZis7rK0k6sGm8WdxzL-LO_1fEo5lVYG4fzuqB88zkMHHmNKJ9SA4wDw4fOy_qPEcO-FCj1cff4ad-udVUbgn1Uwa6FWSM3B3Wbz7G6N5MoWrChlUIxNIUfjGDH5EU9q4Hq8BNU1lorKu6cL_vY_pRHgABNu8RbkvI25PhkEwWAin-9usvUvk7ldhhPoaVZTbI8DUfPRPPwkCxjhWwI98QN1QEc_y86P_p2n8WKqZOJON4LBVFSD_FNFNENAUdujo-wiKAf8F6Q31IApiAvaK6_c9_iz88dWeLAqm_iQG1Ny0OMM33bjr3a7c0Kxpyp2thvj-S9O8-_WyjcnvGGX2lj9T02StmpiGQ8EZDQJl6nNFarmvtcLjQPY4XGNWS4Y5uMj4wFG48HdqLf7KukurYc95qWdgJxSv5izn2LcgOAfFq87oibO0s5ef3yyS2Lxot4QS-ljbQMGlwNOcQXv09vnAYTnwsCGKln4MXB_9DiJVGHA" class="x1i10hfl xjbqb8w x1ejq31n x18oe1m7 x1sy0etr xstzfhl x972fbf x10w94by x1qhh985 x14e42zd x9f619 x1ypdohk xt0psk2 x3ct3a4 xdj266r x14z9mp xat24cr x1lziwak xexx8yu xyri2b x18d9i69 x1c1uobl x16tdsg8 x1hl2dhg xggy1nq x1a2a7pz xkrqix3 x1sur9pj xzsf02u x1s688f" href="https://www.facebook.com/hashtag/dayofpurple?__eep__=6&amp\;__cft__[0]=AZWpPtYTB42U536w7P0CHkhUkcIHNQGvhJEgHcmT41kCftQn3Ebg8eXa3g5uTkCibZ8TW226pKq1dcNSVyYs6RJHZw6Z1pH3Dyw8ob0PeKcRcWVnKqeBiqUo1TZ7HE1z3pDZLHu4Ld2Ex1LGmdFO8yQk&amp\;__tn__=q" role="link" style="color: rgb(226\, 229\, 233)\; cursor: pointer\; text-decoration-line: none\; border-width: 0px\; margin: 0px\; text-align: inherit\; border-style: none\; padding: 0px\; list-style-type: none\; box-sizing: border-box\; background-color: transparent\; outline: none\; -webkit-tap-highlight-color: transparent\; font-weight: 600\; touch-action: manipulation\; display: inline\; font-family: inherit\;" tabindex="0">#dayofpurple</a>&nbsp\;participation photos on social media. Show off your favorite purple fashions to your friends and followers!</div>\n\n<div class="x14z9mp xat24cr x1lziwak x1vvkbs xtlvy1s" style="margin: 0.5em 0px 0px\; overflow-wrap: break-word\; font-family: &quot\;Segoe UI Historic&quot\;\, &quot\;Segoe UI&quot\;\, Helvetica\, Arial\, sans-serif\; color: rgb(226\, 229\, 233)\; font-size: 15px\; background-color: rgb(37\, 39\, 40)\;">To request free Day of Purple posters and stickers\, contact your local Someplace Safe office or email ashley.z@someplacesafe.info</div>\n
LOCATION:Wherever you go!
UID:e.417.6340
SEQUENCE:3
DTSTAMP:20260421T171314Z
URL:https://business.wahpetonbreckenridgechamber.com/events/details/day-of-purple-6340
END:VEVENT

END:VCALENDAR
