BEGIN:VCALENDAR
VERSION:2.0
PRODID:-//ChamberMaster//Event Calendar 2.0//EN
METHOD:PUBLISH
X-PUBLISHED-TTL:P3D
REFRESH-INTERVAL:P3D
CALSCALE:GREGORIAN
BEGIN:VEVENT
DTSTART:20260117T170000Z
DTEND:20260117T180000Z
X-MICROSOFT-CDO-ALLDAYEVENT:FALSE
SUMMARY:Day of Play
DESCRIPTION:Day of Play at the Breckenridge Public Library\n\n\n\nJoin us for hands-on learning\, joyful play\, and a fun-filled day of STEM-inspired stations designed to spark curiosity\, creativity\, and learning through play with Brainy Ink! \n\n\n\nThe fun is happening on Saturday\, January 17th from 11-1pm and is geared towards families with children ages 2-10\, but all are welcome!
X-ALT-DESC;FMTTYPE=text/html:Day of Play at the Breckenridge Public Library<br />\n<br />\n<span><span class="x193iq5w xeuugli x13faqbe x1vvkbs x1xmvt09 x1lliihq x1s928wv xhkezso x1gmr53x x1cpjm7i x1fgarty x1943h6x xudqn12 x3x7a5m x6prxxf xvq8zen xo1l8bm xzsf02u x1yc453h" dir="auto">Join us for hands-on learning\, joyful play\, and a fun-filled day of STEM-inspired stations designed to spark curiosity\, creativity\, and learning through play with Brainy Ink! </span></span><br />\n<br />\n<span><span class="x193iq5w xeuugli x13faqbe x1vvkbs x1xmvt09 x1lliihq x1s928wv xhkezso x1gmr53x x1cpjm7i x1fgarty x1943h6x xudqn12 x3x7a5m x6prxxf xvq8zen xo1l8bm xzsf02u x1yc453h" dir="auto">The fun is happening on Saturday\, January 17th from 11-1pm and is geared towards families with children ages 2-10\, but all are welcome!</span></span>
LOCATION:Breckenridge Public Library 205 7th St N\, Breckenridge\, MN
UID:e.417.6582
SEQUENCE:3
DTSTAMP:20260421T131339Z
URL:https://business.wahpetonbreckenridgechamber.com/events/details/day-of-play-6582
END:VEVENT

END:VCALENDAR
