BEGIN:VCALENDAR
VERSION:2.0
PRODID:-//ChamberMaster//Event Calendar 2.0//EN
METHOD:PUBLISH
X-PUBLISHED-TTL:P3D
REFRESH-INTERVAL:P3D
CALSCALE:GREGORIAN
BEGIN:VEVENT
DTSTART:20260119T190000Z
DTEND:20260119T233000Z
X-MICROSOFT-CDO-ALLDAYEVENT:FALSE
SUMMARY:Craft Day - Breck Family Community Center
DESCRIPTION:Family Community/Teen Center\n\nCraft Days\n\nFree Make & Take Crafts
X-ALT-DESC;FMTTYPE=text/html:<p>Family Community/Teen Center<br />\nCraft Days</p>\n\n<p>Free Make &amp\; Take Crafts</p>\n
LOCATION:Breckenridge Family Community Center
UID:e.417.6567
SEQUENCE:3
DTSTAMP:20260421T131639Z
URL:https://business.wahpetonbreckenridgechamber.com/events/details/craft-day-breck-family-community-center-6567
END:VEVENT

END:VCALENDAR
